BEGIN:VCALENDAR
VERSION:2.0
PRODID:-//wp-events-plugin.com//7.2.3.1//EN
TZID:Europe/Berlin
X-WR-TIMEZONE:Europe/Berlin
BEGIN:VEVENT
UID:13286@nachbarschaftstreff-moosach.de
DTSTART;TZID=Europe/Berlin:20260308T100000
DTEND;TZID=Europe/Berlin:20260308T120000
DTSTAMP:20260226T094334Z
URL:https://www.nachbarschaftstreff-moosach.de/veranstaltungen/wahlttag-ca
 fe/
SUMMARY:Wahlttag-Café
DESCRIPTION:Am Wahltag laden wir herzlich ein zu einem gemütlichen Weißwu
 rstfrühstück in geselliger Runde ein.\nKommen Sie vorbei\, stärken Sie 
 sich mit frischen Weißwürsten\, Brezen und guter Gesellschaft – und nu
 tzen Sie die Gelegenheit für nette Gespräche mit Menschen aus Ihrer Nach
 barschaft. Wer möchte\, kann danach gemeinsam mit uns zum Wahllokal gehen
 .\nWir freuen uns auf Ihr Kommen!\nDie Plätze sind begrenzt. Wir bitten u
 m Anmeldung unter:\nuntermenzinger-treff@ag-buhlstrasse.de\nKleiner Unkost
 enbeitrag für das Essen pro Person: 2 Euro
ATTACH;FMTTYPE=image/jpeg:https://www.nachbarschaftstreff-moosach.de/wp-co
 ntent/uploads/2026/02/Grafik-Wahlttag-Cafe.png
CATEGORIES:Veranstaltungen Untermenzinger Straße
LOCATION:Nachbarschaftstreff Untermenzinger Straße\, Untermenzinger Str. 7
 6\, Muenchen\, Deutschland
GEO:48.17931;11.495249999999942
X-APPLE-STRUCTURED-LOCATION;VALUE=URI;X-ADDRESS=Untermenzinger Str. 76\, Mu
 enchen\, Deutschland;X-APPLE-RADIUS=100;X-TITLE=Nachbarschaftstreff Unterm
 enzinger Straße:geo:48.17931,11.495249999999942
END:VEVENT
BEGIN:VTIMEZONE
TZID:Europe/Berlin
X-LIC-LOCATION:Europe/Berlin
BEGIN:STANDARD
DTSTART:20251026T020000
TZOFFSETFROM:+0200
TZOFFSETTO:+0100
TZNAME:CET
END:STANDARD
END:VTIMEZONE
END:VCALENDAR