BEGIN:VCALENDAR
VERSION:2.0
PRODID:-//wp-events-plugin.com//7.2.3.1//EN
TZID:Europe/Berlin
X-WR-TIMEZONE:Europe/Berlin
BEGIN:VEVENT
UID:10801@nachbarschaftstreff-moosach.de
DTSTART;TZID=Europe/Berlin:20251207T100000
DTEND;TZID=Europe/Berlin:20251207T120000
DTSTAMP:20251129T154459Z
URL:https://www.nachbarschaftstreff-moosach.de/veranstaltungen/quartiersku
 eche-3/
SUMMARY:Quartiersküche
DESCRIPTION:Lust\, gemeinsam mit anderen\, zu kochen\, backen und konservie
 ren?\nInteresse daran\, Bezugsquellen für regionale\, saisonale (Bio-)Leb
 ensmittel zu erkunden?\nSpaß am Ausprobieren neuer Rezepte?\nDann ist die
  Quartiersküche etwas für Dich. Komm alleine\, oder mit Familie und Freu
 nden. Lerne beim Kochen neue Nachbarn kennen.\nWährend wir uns einen Apfe
 l-Tee aufbrühen oder eine Kräuterlimo mixen\, stellt Irene Nitsch vom M
 ünchner Ernährungsrat eingangs kurz einen Aspekt vor\, der gutes und ges
 undes Essen für Alle ausmacht. \nDann werden saisonales Obst und Gemüse
  gemeinsam verarbeitet. Jeder kann eine Kostprobe mit nach Hause nehmen. B
 eim Schnippeln und Kochen tauschen wir Tipps\, Erfahrungen und Rezepte aus
 .\nTermin &amp\; Thema\nSonntag\, der 07.12.: Plätzchenduft. Gemeinsam kn
 eten\, backen und naschen.\nDie Teilnahme ist kostenlos\, Spenden sind erw
 ünscht.\nWann? Jeweils am ersten Sonntag des Monats von 10:00-12:00 Uhr\n
 Anmeldung (bis zum Freitagabend vor dem Termin) bitte an: i.nitsch@muenchn
 er-ernaehrungsrat.de\nFoto: Freepik
ATTACH;FMTTYPE=image/jpeg:https://www.nachbarschaftstreff-moosach.de/wp-co
 ntent/uploads/2025/09/hande-die-platzchenschneider-auf-geback-verwenden-sc
 aled.jpg
CATEGORIES:Veranstaltungen Untermenzinger Straße,Kurse und Gruppen
 Untermenzinger Straße
END:VEVENT
BEGIN:VTIMEZONE
TZID:Europe/Berlin
X-LIC-LOCATION:Europe/Berlin
BEGIN:STANDARD
DTSTART:20251026T020000
TZOFFSETFROM:+0200
TZOFFSETTO:+0100
TZNAME:CET
END:STANDARD
END:VTIMEZONE
END:VCALENDAR