BEGIN:VCALENDAR
VERSION:2.0
PRODID:-//wp-events-plugin.com//7.2.3.1//EN
TZID:Europe/Berlin
X-WR-TIMEZONE:Europe/Berlin
BEGIN:VEVENT
UID:10615@nachbarschaftstreff-moosach.de
DTSTART;TZID=Europe/Berlin:20250710T170000
DTEND;TZID=Europe/Berlin:20250710T200000
DTSTAMP:20250704T095952Z
URL:https://www.nachbarschaftstreff-moosach.de/veranstaltungen/positives-d
 enken-vortrag-und-gespraechsrunde/
SUMMARY:Positives Denken: Vortrag und Gesprächsrunde
DESCRIPTION:Am 2. Donnerstag und am 3. Freitag im Monat\nNeue Vorträge mit
  Gesprächsrunde im Juli zum Thema "Mensch sein"\nImpulse für die Diskuss
 ion:\n\n	Gedanken und Wünsche als Schlüssel zu unserem Leben\n	Universal
 e Gesetze und Prinzipien\n	Fange dort an\, wo du stehengeblieben bist\n	De
 m Fluss des Lebens folgen\, um besser zu leben\n\nJolanta leitet die Treff
 en ehrenamtlich.\nKontakt für Fragen: 0163 544 19 00
CATEGORIES:Veranstaltungen Untermenzinger Straße,Kurse und Gruppen
 Untermenzinger Straße
LOCATION:Nachbarschaftstreff Untermenzinger Straße\, Untermenzinger Str. 7
 6\, Muenchen\, Deutschland
GEO:48.17931;11.495249999999942
X-APPLE-STRUCTURED-LOCATION;VALUE=URI;X-ADDRESS=Untermenzinger Str. 76\, Mu
 enchen\, Deutschland;X-APPLE-RADIUS=100;X-TITLE=Nachbarschaftstreff Unterm
 enzinger Straße:geo:48.17931,11.495249999999942
END:VEVENT
BEGIN:VTIMEZONE
TZID:Europe/Berlin
X-LIC-LOCATION:Europe/Berlin
BEGIN:DAYLIGHT
DTSTART:20250330T030000
TZOFFSETFROM:+0100
TZOFFSETTO:+0200
TZNAME:CEST
END:DAYLIGHT
END:VTIMEZONE
END:VCALENDAR