BEGIN:VCALENDAR
VERSION:2.0
PRODID:-//wp-events-plugin.com//7.2.3.1//EN
TZID:Europe/Berlin
X-WR-TIMEZONE:Europe/Berlin
BEGIN:VEVENT
UID:13279@nachbarschaftstreff-moosach.de
DTSTART;TZID=Europe/Berlin:20260622T183000
DTEND;TZID=Europe/Berlin:20260622T200000
DTSTAMP:20260213T131104Z
URL:https://www.nachbarschaftstreff-moosach.de/veranstaltungen/offene-trau
 ergruppe-2026-06-22/
SUMMARY:Offene Trauergruppe
DESCRIPTION:Trauer gehört zum Leben - doch in unserer Gesellschaft ist si
 e leider noch immer ein Tabuthema. Dabei trauern Menschen tagtäglich aus 
 den verschiedensten Gründen.\nIn unserer offenen Trauergruppe begegnen si
 ch Menschen\, die einen Verlust erlebt haben - egal\, wie lange dieser zur
 ückliegt. Hier darf geweint\, erinnert\, geschwiegen und gelacht werden. 
 Alles darf sein.\nWir nehmen uns Zeit\, der Trauer zu begegnen - mit Gespr
 ächen\, kleinen Impulsen und achtsamen Momenten in einer geschützten Atm
 osphäre.\nWillkommen sind alle\, die sich einen heilsamen Raum für ihre 
 Trauer wünschen.\nDas Angebot ist kostenfrei - Spende möglich\nDie Grupp
 e trifft sich jeden 4. Montag im Monat im Nachbarschaftstreff.\nUm eine ve
 rbindliche Anmeldung wird gebeten:\nKarin Selzer: 0176/23918445 | kontakt
 @trauerherz.de\noder über den Nachbarschaftstreff: untermenzinger-treff@a
 g-buhlstrasse.de
ATTACH;FMTTYPE=image/jpeg:https://www.nachbarschaftstreff-moosach.de/wp-co
 ntent/uploads/2026/01/Bank_1.jpg
CATEGORIES:Kurse und Gruppen Untermenzinger Straße
LOCATION:Nachbarschaftstreff Untermenzinger Straße\, Untermenzinger Str. 7
 6\, Muenchen\, Deutschland
GEO:48.17931;11.495249999999942
X-APPLE-STRUCTURED-LOCATION;VALUE=URI;X-ADDRESS=Untermenzinger Str. 76\, Mu
 enchen\, Deutschland;X-APPLE-RADIUS=100;X-TITLE=Nachbarschaftstreff Unterm
 enzinger Straße:geo:48.17931,11.495249999999942
END:VEVENT
BEGIN:VTIMEZONE
TZID:Europe/Berlin
X-LIC-LOCATION:Europe/Berlin
BEGIN:DAYLIGHT
DTSTART:20260329T030000
TZOFFSETFROM:+0100
TZOFFSETTO:+0200
TZNAME:CEST
END:DAYLIGHT
END:VTIMEZONE
END:VCALENDAR