BEGIN:VCALENDAR
VERSION:2.0
PRODID:-//wp-events-plugin.com//7.2.3.1//EN
TZID:Europe/Berlin
X-WR-TIMEZONE:Europe/Berlin
BEGIN:VEVENT
UID:13073@nachbarschaftstreff-moosach.de
DTSTART;TZID=Europe/Berlin:20260617T150000
DTEND;TZID=Europe/Berlin:20260617T163000
DTSTAMP:20251201T132011Z
URL:https://www.nachbarschaftstreff-moosach.de/veranstaltungen/offene-spie
 lgruppe-fuer-kinder-von-0-3-jahren-2026-06-17/
SUMMARY:Offene Spielgruppe für Kinder von 0 – 3 Jahren
DESCRIPTION:Eine offene Spielgruppe für Kinder von 0 – 3 Jahren in Begle
 itung ihrer Eltern – ältere Geschwister sind willkommen.\nMit gemeinsam
 en Ritualen\, freiem Spiel\, spannenden Büchern und allem\, was es zum Wo
 hlfühlen braucht: Spielzeug\, Bücher &amp\; Getränke sind da!\nDie Betr
 euung der Kinder liegt bei den Eltern.\nDas Angebot wird ehrenamtlich von 
 Alisa organisiert und ist kostenlos.\nKommt einfach vorbei &amp\; habt ein
 e gemütliche Zeit für Groß und Klein!
ATTACH;FMTTYPE=image/jpeg:https://www.nachbarschaftstreff-moosach.de/wp-co
 ntent/uploads/2025/11/Bild-Spielgruppe-NBT-U.jpg
CATEGORIES:Kurse und Gruppen Untermenzinger Straße
LOCATION:Nachbarschaftstreff Untermenzinger Straße\, Untermenzinger Str. 7
 6\, Muenchen\, Deutschland
GEO:48.17931;11.495249999999942
X-APPLE-STRUCTURED-LOCATION;VALUE=URI;X-ADDRESS=Untermenzinger Str. 76\, Mu
 enchen\, Deutschland;X-APPLE-RADIUS=100;X-TITLE=Nachbarschaftstreff Unterm
 enzinger Straße:geo:48.17931,11.495249999999942
END:VEVENT
BEGIN:VTIMEZONE
TZID:Europe/Berlin
X-LIC-LOCATION:Europe/Berlin
BEGIN:DAYLIGHT
DTSTART:20260329T030000
TZOFFSETFROM:+0100
TZOFFSETTO:+0200
TZNAME:CEST
END:DAYLIGHT
END:VTIMEZONE
END:VCALENDAR