BEGIN:VCALENDAR
VERSION:2.0
PRODID:-//wp-events-plugin.com//7.2.3.1//EN
TZID:Europe/Berlin
X-WR-TIMEZONE:Europe/Berlin
BEGIN:VEVENT
UID:1873@nachbarschaftstreff-moosach.de
DTSTART;TZID=Europe/Berlin:20300321T100000
DTEND;TZID=Europe/Berlin:20300321T130000
DTSTAMP:20251024T124106Z
URL:https://www.nachbarschaftstreff-moosach.de/veranstaltungen/offene-buer
 ozeit-untermenzinger-strasse-2-2030-03-21/
SUMMARY:Offene Bürozeit Untermenzinger Straße
DESCRIPTION:Sie wollen einen Raum buchen? Haben Fragen zu unserem Programm 
 oder eine neue Idee? Wollen etwas über die Nachbarschaft oder andere sozi
 ale Angebote in Moosach wissen?\nDann kommen Sie während unserer offene B
 ürozeit für Infos und zur Raumvergabe vorbei! \nWann? Jeden Donnerstag 
 von 10:00 - 13:00 Uhr
ATTACH;FMTTYPE=image/jpeg:https://www.nachbarschaftstreff-moosach.de/wp-co
 ntent/uploads/2017/04/AM6-150ppp-01.jpg
CATEGORIES:Kurse und Gruppen Untermenzinger Straße
LOCATION:Nachbarschaftstreff Untermenzinger Straße\, Untermenzinger Str. 7
 6\, Muenchen\, Deutschland
GEO:48.17931;11.495249999999942
X-APPLE-STRUCTURED-LOCATION;VALUE=URI;X-ADDRESS=Untermenzinger Str. 76\, Mu
 enchen\, Deutschland;X-APPLE-RADIUS=100;X-TITLE=Nachbarschaftstreff Unterm
 enzinger Straße:geo:48.17931,11.495249999999942
END:VEVENT
BEGIN:VTIMEZONE
TZID:Europe/Berlin
X-LIC-LOCATION:Europe/Berlin
BEGIN:STANDARD
DTSTART:20291028T020000
TZOFFSETFROM:+0200
TZOFFSETTO:+0100
TZNAME:CET
END:STANDARD
END:VTIMEZONE
END:VCALENDAR