BEGIN:VCALENDAR
VERSION:2.0
PRODID:-//wp-events-plugin.com//7.2.3.1//EN
TZID:Europe/Berlin
X-WR-TIMEZONE:Europe/Berlin
BEGIN:VEVENT
UID:7184@nachbarschaftstreff-moosach.de
DTSTART;TZID=Europe/Berlin:20300325T143000
DTEND;TZID=Europe/Berlin:20300325T163000
DTSTAMP:20251024T123411Z
URL:https://www.nachbarschaftstreff-moosach.de/veranstaltungen/literaturca
 fe-2030-03-25/
SUMMARY:Literaturcafé
DESCRIPTION:Ein offenes Café für die Nachbarschaft mit selbstgemachten Ku
 chen\, ausgewählten Lesestücken und etwas Musik.\nWillkommen sind alle\,
  die offen für neue Bekanntschaften sind und einen respektvollen Umgang m
 iteinander schätzen.\nDie Treffen werden ehrenamtlich von Anne und Julius
  Kexel geleitet.\nWann? Jeden Montag von 14:30 - 16:30 Uhr
ATTACH;FMTTYPE=image/jpeg:https://www.nachbarschaftstreff-moosach.de/wp-co
 ntent/uploads/2019/05/LitCafe_20190403-04.jpg
CATEGORIES:Kurse und Gruppen Untermenzinger Straße
LOCATION:Nachbarschaftstreff Untermenzinger Straße\, Untermenzinger Str. 7
 6\, Muenchen\, Deutschland
GEO:48.17931;11.495249999999942
X-APPLE-STRUCTURED-LOCATION;VALUE=URI;X-ADDRESS=Untermenzinger Str. 76\, Mu
 enchen\, Deutschland;X-APPLE-RADIUS=100;X-TITLE=Nachbarschaftstreff Unterm
 enzinger Straße:geo:48.17931,11.495249999999942
END:VEVENT
BEGIN:VTIMEZONE
TZID:Europe/Berlin
X-LIC-LOCATION:Europe/Berlin
BEGIN:STANDARD
DTSTART:20291028T020000
TZOFFSETFROM:+0200
TZOFFSETTO:+0100
TZNAME:CET
END:STANDARD
END:VTIMEZONE
END:VCALENDAR