BEGIN:VCALENDAR
VERSION:2.0
PRODID:-//wp-events-plugin.com//7.2.3.1//EN
TZID:Europe/Berlin
X-WR-TIMEZONE:Europe/Berlin
BEGIN:VEVENT
UID:10300@nachbarschaftstreff-moosach.de
DTSTART;TZID=Europe/Berlin:20250308T143000
DTEND;TZID=Europe/Berlin:20250308T163000
DTSTAMP:20250220T123040Z
URL:https://www.nachbarschaftstreff-moosach.de/veranstaltungen/lila-rosen-
 fuer-frauen-und-respekt/
SUMMARY:Lila Rosen für Frauen und Respekt
DESCRIPTION:Am Weltfrauentag häkeln wir im Nachbarschaftstreff Karlingerst
 raße lila Rosen. Die Rosen sind ein Zeichen für den Respekt von Frauen u
 nd prangern Gewalt gegenüber Frauen und Kindern an. Dazu gibt es Kaffee u
 nd Tee\, wir wollen gemütlich beisammen sein\, mit oder ohne Häkeln. Wir
  freuen uns über Spenden für die Aktion. \nIm Anschluss gibt es die Mö
 glichkeit von 18 – 23 Uhr im Pelkovenschlössl gemeinsam mit anderen Fra
 uen in Bewegung zu kommen und bei Musik und Tanz den Weltfrauentag zu feie
 rn.\n\n\n&nbsp\;\n&nbsp\;\n&nbsp\;\nImage by freepik (c) Fotos von Arbeits
 gruppe Buhlstraße e.V. (c) 
ATTACH;FMTTYPE=image/jpeg:https://www.nachbarschaftstreff-moosach.de/wp-co
 ntent/uploads/2025/02/top-view-weaving-materials-table-1-scaled.jpg
CATEGORIES:Veranstaltungen Karlingerstraße
LOCATION:Nachbarschaftstreff Karlingerstraße\, Karlingerstr. 30 a\, Muench
 en\, Deutschland
GEO:48.1785187;11.51159789999997
X-APPLE-STRUCTURED-LOCATION;VALUE=URI;X-ADDRESS=Karlingerstr. 30 a\, Muench
 en\, Deutschland;X-APPLE-RADIUS=100;X-TITLE=Nachbarschaftstreff Karlingers
 traße:geo:48.1785187,11.51159789999997
END:VEVENT
BEGIN:VTIMEZONE
TZID:Europe/Berlin
X-LIC-LOCATION:Europe/Berlin
BEGIN:STANDARD
DTSTART:20241027T020000
TZOFFSETFROM:+0200
TZOFFSETTO:+0100
TZNAME:CET
END:STANDARD
END:VTIMEZONE
END:VCALENDAR