BEGIN:VCALENDAR
VERSION:2.0
PRODID:-//wp-events-plugin.com//7.2.3.1//EN
TZID:Europe/Berlin
X-WR-TIMEZONE:Europe/Berlin
BEGIN:VEVENT
UID:12601@nachbarschaftstreff-moosach.de
DTSTART;TZID=Europe/Berlin:20300312T150000
DTEND;TZID=Europe/Berlin:20300312T170000
DTSTAMP:20251024T154720Z
URL:https://www.nachbarschaftstreff-moosach.de/veranstaltungen/lesefoerder
 ung-2025-10-28-2025-11-04-2025-11-11-2025-11-18-2025-11-25-2025-12-02-2025
 -12-09-2025-12-16-2025-12-23-2025-12-30-2026-01-06-2026-01-13-2026-01-20-2
 026-01-27-2026-02-03-2026-0-05-2030-03-12/
SUMMARY:Leseförderung
DESCRIPTION:Suchst du für dein Kind Hilfe beim Lesen lernen?\nMarlies\, ei
 ne freundliche und erfahrene Rentnerin aus unserer Nachbarschaft\, bietet 
 einmal pro Woche eine kostenlose\, individuelle Lesestunde für Grundschul
 kinder ab der 1. Klasse an.\nWann? Dienstags und freitags von 15:00 – 16
 :00 und 16:00 – 17:00 Uhr\nInteresse? Melde dich gerne im Treff – pers
 önlich oder per Mail unter untermenzinger-treff@ag-buhlstrasse.de\nBild: 
 Hermann Kollinger auf Pixabay
ATTACH;FMTTYPE=image/jpeg:https://www.nachbarschaftstreff-moosach.de/wp-co
 ntent/uploads/2025/10/Hermann-Kollinger-auf-Pixabay.jpg
CATEGORIES:Kurse und Gruppen Untermenzinger Straße
LOCATION:Nachbarschaftstreff Untermenzinger Straße\, Untermenzinger Str. 7
 6\, Muenchen\, Deutschland
GEO:48.17931;11.495249999999942
X-APPLE-STRUCTURED-LOCATION;VALUE=URI;X-ADDRESS=Untermenzinger Str. 76\, Mu
 enchen\, Deutschland;X-APPLE-RADIUS=100;X-TITLE=Nachbarschaftstreff Unterm
 enzinger Straße:geo:48.17931,11.495249999999942
END:VEVENT
BEGIN:VTIMEZONE
TZID:Europe/Berlin
X-LIC-LOCATION:Europe/Berlin
BEGIN:STANDARD
DTSTART:20291028T020000
TZOFFSETFROM:+0200
TZOFFSETTO:+0100
TZNAME:CET
END:STANDARD
END:VTIMEZONE
END:VCALENDAR