BEGIN:VCALENDAR
VERSION:2.0
PRODID:-//wp-events-plugin.com//7.2.3.1//EN
TZID:Europe/Berlin
X-WR-TIMEZONE:Europe/Berlin
BEGIN:VEVENT
UID:10692@nachbarschaftstreff-moosach.de
DTSTART;TZID=Europe/Berlin:20260609T140000
DTEND;TZID=Europe/Berlin:20260609T170000
DTSTAMP:20250721T141009Z
URL:https://www.nachbarschaftstreff-moosach.de/veranstaltungen/kostenlose-
 lernbuecherei-fuer-grundschulkinder-2025-07-22-2025-07-29-2025-08-05-2025-
 08-12-2025-08-19-2025-08-26-2025-09-02-2025-09-09-2025-09-16-2025-09-23-20
 25-09-30-2025-10-07-2025-10-02-2026-06-09/
SUMMARY:Kostenlose Lernbücherei für Grundschulkinder
DESCRIPTION:Kostenlose Lernbibliothek für Grundschulkinder im Nachbarschaf
 tstreff Untermenzinger Straße\nWir haben verschiedene Lern- und Förderma
 terialien für die Fächer Deutsch\, Mathe und Heimat- und Sachkunde (HSU)
  für die Grundschule.\nUnser Angebot:\n\n	Wir verleihen die Lernmateriali
 en kostenlos für 2 Wochen\n	Wir kopieren verschiedene Bücher oder Hefte 
 (bis zu 20 Seiten) kostenlos\n\nÖffnungszeiten unsere Lernbibliothek:\n\n
 	Dienstags: 14:00-17:00 Uhr\n	Donnerstags: 10:00-13:00 Uhr\n\nWir freuen u
 ns über eine rege Nutzung der Lernbibliothek!
ATTACH;FMTTYPE=image/jpeg:https://www.nachbarschaftstreff-moosach.de/wp-co
 ntent/uploads/2025/07/Foto-Lernmaterial.jpg
CATEGORIES:Kurse und Gruppen Untermenzinger Straße
LOCATION:Nachbarschaftstreff Untermenzinger Straße\, Untermenzinger Str. 7
 6\, Muenchen\, Deutschland
GEO:48.17931;11.495249999999942
X-APPLE-STRUCTURED-LOCATION;VALUE=URI;X-ADDRESS=Untermenzinger Str. 76\, Mu
 enchen\, Deutschland;X-APPLE-RADIUS=100;X-TITLE=Nachbarschaftstreff Unterm
 enzinger Straße:geo:48.17931,11.495249999999942
END:VEVENT
BEGIN:VTIMEZONE
TZID:Europe/Berlin
X-LIC-LOCATION:Europe/Berlin
BEGIN:DAYLIGHT
DTSTART:20260329T030000
TZOFFSETFROM:+0100
TZOFFSETTO:+0200
TZNAME:CEST
END:DAYLIGHT
END:VTIMEZONE
END:VCALENDAR