BEGIN:VCALENDAR
VERSION:2.0
PRODID:-//wp-events-plugin.com//7.2.3.1//EN
TZID:Europe/Berlin
X-WR-TIMEZONE:Europe/Berlin
BEGIN:VEVENT
UID:10858@nachbarschaftstreff-moosach.de
DTSTART;TZID=Europe/Berlin:20251113T133000
DTEND;TZID=Europe/Berlin:20260827T150000
DTSTAMP:20260112T094116Z
URL:https://www.nachbarschaftstreff-moosach.de/veranstaltungen/hausaufgabe
 nhilfe-fuer-2-klaessler/
SUMMARY:Hausaufgabenhilfe für Grundschulkinder
DESCRIPTION:Suchst du Hilfe bei den Hausaufgaben? \nBenötigst du zusätzli
 che Hilfe beim Leseverstehen?\nEinmal pro Woche unterstützt und hilft euc
 h unsere Nachbarin Mujgan Rahiq bei den Hausaufgaben und übt bei Bedarf m
 it euch den Schulstoff.\nDonnerstags von 13:30 – 15:00 Uhr \nim Nachbars
 chaftstreff Untermenzinger Straße\nTeilnehmerzahl max. 4 Kinder\nAnmeldun
 g bitte unter: info.hausaufgabenhilfe@gmx.de
ATTACH;FMTTYPE=image/jpeg:https://www.nachbarschaftstreff-moosach.de/wp-co
 ntent/uploads/2025/10/Bild-Hausaufgabenhilfe.jpg
CATEGORIES:Kurse und Gruppen Untermenzinger Straße
LOCATION:Nachbarschaftstreff Untermenzinger Straße\, Untermenzinger Str. 7
 6\, Muenchen\, Deutschland
GEO:48.17931;11.495249999999942
X-APPLE-STRUCTURED-LOCATION;VALUE=URI;X-ADDRESS=Untermenzinger Str. 76\, Mu
 enchen\, Deutschland;X-APPLE-RADIUS=100;X-TITLE=Nachbarschaftstreff Unterm
 enzinger Straße:geo:48.17931,11.495249999999942
END:VEVENT
BEGIN:VTIMEZONE
TZID:Europe/Berlin
X-LIC-LOCATION:Europe/Berlin
BEGIN:STANDARD
DTSTART:20251026T020000
TZOFFSETFROM:+0200
TZOFFSETTO:+0100
TZNAME:CET
END:STANDARD
BEGIN:DAYLIGHT
DTSTART:20260329T030000
TZOFFSETFROM:+0100
TZOFFSETTO:+0200
TZNAME:CEST
END:DAYLIGHT
END:VTIMEZONE
END:VCALENDAR