BEGIN:VCALENDAR
VERSION:2.0
PRODID:-//wp-events-plugin.com//7.2.3.1//EN
TZID:Europe/Berlin
X-WR-TIMEZONE:Europe/Berlin
BEGIN:VEVENT
UID:13293@nachbarschaftstreff-moosach.de
DTSTART;TZID=Europe/Berlin:20260426T110000
DTEND;TZID=Europe/Berlin:20260426T150000
DTSTAMP:20260422T153500Z
URL:https://www.nachbarschaftstreff-moosach.de/veranstaltungen/freiwillige
 nmesse-moosach/
SUMMARY:Freiwilligenmesse Moosach
DESCRIPTION:Lerne die vielfältigen Möglichkeiten eines Ehrenamts in Moosa
 ch kennen und finde das Engagement\, das zu dir passt!\nÜber 25 Einrichtu
 ngen\, Initiativen und Vereine stellen sich vor.\nWann? Am Sonntag\, den 2
 6. April\, von 11:00 Uhr bis 15:00 Uhr\nWo? Im Kultur- und Bürgerhaus Pel
 kovenschlössl\, Moosacher St.-Martins-Platz 2\, 80992 München\nEintritt 
 frei! \nWir freuen uns auf Euren Besuch!\nSchirmherrin: Bürgermeisterin V
 erena Dietl\nVeranstalter: FöBE in Kooperation mit Engagiert für Moosach
 \n\nMit Live-Musik und Porträt-Schnellzeichner \nVerkauf von kleinen Snac
 ks und Erfrischungsgetränken
ATTACH;FMTTYPE=image/jpeg:https://www.nachbarschaftstreff-moosach.de/wp-co
 ntent/uploads/2026/04/Sharepic-Moosach.png
CATEGORIES:Veranstaltungen Karlingerstraße,Veranstaltungen Untermenzinger
 Straße
END:VEVENT
BEGIN:VTIMEZONE
TZID:Europe/Berlin
X-LIC-LOCATION:Europe/Berlin
BEGIN:DAYLIGHT
DTSTART:20260329T030000
TZOFFSETFROM:+0100
TZOFFSETTO:+0200
TZNAME:CEST
END:DAYLIGHT
END:VTIMEZONE
END:VCALENDAR