BEGIN:VCALENDAR
VERSION:2.0
PRODID:-//wp-events-plugin.com//7.2.3.1//EN
TZID:Europe/Berlin
X-WR-TIMEZONE:Europe/Berlin
BEGIN:VEVENT
UID:11636@nachbarschaftstreff-moosach.de
DTSTART;TZID=Europe/Berlin:20300827T150000
DTEND;TZID=Europe/Berlin:20300827T170000
DTSTAMP:20251024T143014Z
URL:https://www.nachbarschaftstreff-moosach.de/veranstaltungen/eltern-kind
 -gruppe-2030-08-27/
SUMMARY:Eltern-Kind-Gruppe
DESCRIPTION:Eine Spielgruppe für Kinder im Alter von 0-3 Jahren\, in Begle
 itung ihrer Eltern.  \nAnmeldung unter: Spielgruppe_Moosach@gmx.de\nWann?
  Nach Absprache (über WhatsApp) am Dienstag von 15:00 – 17:00 Uhr\nFoto
  von Ryan Fields auf Unsplash
ATTACH;FMTTYPE=image/jpeg:https://www.nachbarschaftstreff-moosach.de/wp-co
 ntent/uploads/2025/10/Foto-von-Ryan-Fields-auf-Unsplash-scaled.jpg
CATEGORIES:Kurse und Gruppen Untermenzinger Straße
LOCATION:Nachbarschaftstreff Untermenzinger Straße\, Untermenzinger Str. 7
 6\, Muenchen\, Deutschland
GEO:48.17931;11.495249999999942
X-APPLE-STRUCTURED-LOCATION;VALUE=URI;X-ADDRESS=Untermenzinger Str. 76\, Mu
 enchen\, Deutschland;X-APPLE-RADIUS=100;X-TITLE=Nachbarschaftstreff Unterm
 enzinger Straße:geo:48.17931,11.495249999999942
END:VEVENT
BEGIN:VTIMEZONE
TZID:Europe/Berlin
X-LIC-LOCATION:Europe/Berlin
BEGIN:DAYLIGHT
DTSTART:20300331T030000
TZOFFSETFROM:+0100
TZOFFSETTO:+0200
TZNAME:CEST
END:DAYLIGHT
END:VTIMEZONE
END:VCALENDAR