BEGIN:VCALENDAR
VERSION:2.0
PRODID:-//wp-events-plugin.com//7.2.3.1//EN
TZID:Europe/Berlin
X-WR-TIMEZONE:Europe/Berlin
BEGIN:VEVENT
UID:12967@nachbarschaftstreff-moosach.de
DTSTART;TZID=Europe/Berlin:20300428T100000
DTEND;TZID=Europe/Berlin:20300428T120000
DTSTAMP:20251024T160856Z
URL:https://www.nachbarschaftstreff-moosach.de/veranstaltungen/einzeltrain
 ing-schach-fuer-kinder-jugendliche-fortgeschrittene-2025-10-26-2025-11-23-
 2025-12-28-2026-01-25-2026-02-22-2026-03-22-2026-04-26-2026-05-24-2026-06-
 28-2026-07-26-2026-08-23-20-24-2030-04-28/
SUMMARY:Einzeltraining Schach für Kinder & Jugendliche (Fortgeschrittene)
DESCRIPTION:Schachtraining für fortgeschrittene Kinder und Jugendliche in 
 Kooperation mit „Schachfreunde Gern“.\nAnmeldung unter: training@schac
 hfreunde-muenchen.de\nWann? Jeden 2. + 4. Sonntag im Monat von 10:00 – 1
 2:00 Uhr\nBild von Steve Buissinne auf Pixabay
ATTACH;FMTTYPE=image/jpeg:https://www.nachbarschaftstreff-moosach.de/wp-co
 ntent/uploads/2025/10/checkmate-1511866_1280.jpg
CATEGORIES:Kurse und Gruppen Untermenzinger Straße
LOCATION:Nachbarschaftstreff Untermenzinger Straße\, Untermenzinger Str. 7
 6\, Muenchen\, Deutschland
GEO:48.17931;11.495249999999942
X-APPLE-STRUCTURED-LOCATION;VALUE=URI;X-ADDRESS=Untermenzinger Str. 76\, Mu
 enchen\, Deutschland;X-APPLE-RADIUS=100;X-TITLE=Nachbarschaftstreff Unterm
 enzinger Straße:geo:48.17931,11.495249999999942
END:VEVENT
BEGIN:VTIMEZONE
TZID:Europe/Berlin
X-LIC-LOCATION:Europe/Berlin
BEGIN:DAYLIGHT
DTSTART:20300331T030000
TZOFFSETFROM:+0100
TZOFFSETTO:+0200
TZNAME:CEST
END:DAYLIGHT
END:VTIMEZONE
END:VCALENDAR