BEGIN:VCALENDAR
VERSION:2.0
PRODID:-//wp-events-plugin.com//7.2.3.1//EN
TZID:Europe/Berlin
X-WR-TIMEZONE:Europe/Berlin
BEGIN:VEVENT
UID:13037@nachbarschaftstreff-moosach.de
DTSTART;TZID=Europe/Berlin:20301110T100000
DTEND;TZID=Europe/Berlin:20301110T120000
DTSTAMP:20251024T161044Z
URL:https://www.nachbarschaftstreff-moosach.de/veranstaltungen/einzeltrain
 ing-schach-fuer-kinder-jugendliche-fortgeschrittene-2-2025-11-09-2025-12-1
 4-2026-01-11-2026-02-08-2026-03-08-2026-04-12-2026-05-10-2026-06-14-2026-0
 7-12-2026-08-09-2026-09-13-13-2030-11-10/
SUMMARY:Einzeltraining Schach für Kinder & Jugendliche (Fortgeschrittene)
DESCRIPTION:Schachtraining für fortgeschrittene Kinder und Jugendliche in 
 Kooperation mit „Schachfreunde Gern“.\nAnmeldung unter: training@schac
 hfreunde-muenchen.de\nWann? Jeden 2. + 4. Sonntag im Monat von 10:00 – 1
 2:00 Uhr\nBild von Steve Buissinne auf Pixabay
ATTACH;FMTTYPE=image/jpeg:https://www.nachbarschaftstreff-moosach.de/wp-co
 ntent/uploads/2025/10/checkmate-1511866_1280.jpg
CATEGORIES:Kurse und Gruppen Untermenzinger Straße
END:VEVENT
BEGIN:VTIMEZONE
TZID:Europe/Berlin
X-LIC-LOCATION:Europe/Berlin
BEGIN:STANDARD
DTSTART:20301027T020000
TZOFFSETFROM:+0200
TZOFFSETTO:+0100
TZNAME:CET
END:STANDARD
END:VTIMEZONE
END:VCALENDAR