BEGIN:VCALENDAR
VERSION:2.0
PRODID:-//wp-events-plugin.com//7.2.3.1//EN
TZID:Europe/Berlin
X-WR-TIMEZONE:Europe/Berlin
BEGIN:VEVENT
UID:13159@nachbarschaftstreff-moosach.de
DTSTART;TZID=Europe/Berlin:20260123T180000
DTEND;TZID=Europe/Berlin:20261127T210000
DTSTAMP:20260122T130305Z
URL:https://www.nachbarschaftstreff-moosach.de/veranstaltungen/brettspielt
 reff-der-wuerfelschubser-6/
SUMMARY:Brettspieltreff der Würfelschubser
DESCRIPTION:Bei uns stehen modernere Brettspiele im Vordergrund\, auch aus 
 dem Kenner- und Experten-Bereich\, die ggf. etwas Vorbereitung erfordern.\
 nWir freuen uns auf neue Mitspieler*innen - einfach vorbeikommen!\nRegulä
 r treffen wir uns jeweils am 4. Freitag im Monat ab 18:00 Uhr im Nachbarsc
 haftstreff.\nBitte beachten: Ausnahmsweise treffen wir uns statt am 4. Fre
 itag im Monat am 21. August und 18. Dezember!
ATTACH;FMTTYPE=image/jpeg:https://www.nachbarschaftstreff-moosach.de/wp-co
 ntent/uploads/2025/02/Designer-25.jpeg
CATEGORIES:Kurse und Gruppen Untermenzinger Straße
LOCATION:Nachbarschaftstreff Untermenzinger Straße\, Untermenzinger Str. 7
 6\, Muenchen\, Deutschland
GEO:48.17931;11.495249999999942
X-APPLE-STRUCTURED-LOCATION;VALUE=URI;X-ADDRESS=Untermenzinger Str. 76\, Mu
 enchen\, Deutschland;X-APPLE-RADIUS=100;X-TITLE=Nachbarschaftstreff Unterm
 enzinger Straße:geo:48.17931,11.495249999999942
END:VEVENT
BEGIN:VTIMEZONE
TZID:Europe/Berlin
X-LIC-LOCATION:Europe/Berlin
BEGIN:STANDARD
DTSTART:20251026T020000
TZOFFSETFROM:+0200
TZOFFSETTO:+0100
TZNAME:CET
END:STANDARD
BEGIN:DAYLIGHT
DTSTART:20260329T030000
TZOFFSETFROM:+0100
TZOFFSETTO:+0200
TZNAME:CEST
END:DAYLIGHT
BEGIN:STANDARD
DTSTART:20261025T020000
TZOFFSETFROM:+0200
TZOFFSETTO:+0100
TZNAME:CET
END:STANDARD
END:VTIMEZONE
END:VCALENDAR