BEGIN:VCALENDAR
VERSION:2.0
PRODID:-//wp-events-plugin.com//7.2.3.1//EN
TZID:Europe/Berlin
X-WR-TIMEZONE:Europe/Berlin
BEGIN:VEVENT
UID:13196@nachbarschaftstreff-moosach.de
DTSTART;TZID=Europe/Berlin:20260626T180000
DTEND;TZID=Europe/Berlin:20260626T210000
DTSTAMP:20260122T131930Z
URL:https://www.nachbarschaftstreff-moosach.de/veranstaltungen/brettspielt
 reff-der-wuerfelschubser-2-2026-01-23-2026-02-27-2026-03-27-2026-04-24-202
 6-05-22-2026-06-26/
SUMMARY:Brettspieltreff der Würfelschubser
DESCRIPTION:Bei uns stehen modernere Brettspiele im Vordergrund\, auch aus 
 dem Kenner- und Expertenbereich\, die ggf. etwas Vorbereitung erfordern.\n
 Wir freuen uns auf neue Mitspieler*innen - einfach vorbeikommen!\nRegulär
  treffen wir uns jeweils am 4. Freitag im Montag ab 18 Uhr.\nBitte beachte
 n: Im August und Dezember treffen wir uns statt am 4. Freitag am 21.08.202
 6 und am 18.12.2026
ATTACH;FMTTYPE=image/jpeg:https://www.nachbarschaftstreff-moosach.de/wp-co
 ntent/uploads/2025/02/Designer-25.jpeg
CATEGORIES:Kurse und Gruppen Untermenzinger Straße
LOCATION:Nachbarschaftstreff Untermenzinger Straße\, Untermenzinger Str. 7
 6\, Muenchen\, Deutschland
GEO:48.17931;11.495249999999942
X-APPLE-STRUCTURED-LOCATION;VALUE=URI;X-ADDRESS=Untermenzinger Str. 76\, Mu
 enchen\, Deutschland;X-APPLE-RADIUS=100;X-TITLE=Nachbarschaftstreff Unterm
 enzinger Straße:geo:48.17931,11.495249999999942
END:VEVENT
BEGIN:VTIMEZONE
TZID:Europe/Berlin
X-LIC-LOCATION:Europe/Berlin
BEGIN:DAYLIGHT
DTSTART:20260329T030000
TZOFFSETFROM:+0100
TZOFFSETTO:+0200
TZNAME:CEST
END:DAYLIGHT
END:VTIMEZONE
END:VCALENDAR