BEGIN:VCALENDAR
VERSION:2.0
PRODID:-//wp-events-plugin.com//7.2.3.1//EN
TZID:Europe/Berlin
X-WR-TIMEZONE:Europe/Berlin
BEGIN:VEVENT
UID:13287@nachbarschaftstreff-moosach.de
DTSTART;TZID=Europe/Berlin:20260305T160000
DTEND;TZID=Europe/Berlin:20260305T170000
DTSTAMP:20260303T091604Z
URL:https://www.nachbarschaftstreff-moosach.de/veranstaltungen/bilderbuchk
 ino/
SUMMARY:Bilderbuchkino
DESCRIPTION:Los geht´s in die spannende Welt der Bilder und Geschichten! B
 eim Bilderbuchkino lesen die Mitarbeiter*innen der Stadtbibliothek Moosach
  beliebte Bilderbücher vor\, während die Kinder die Illustrationen groß
  auf der Leinwand sehen - ganz so wie im Kino.\n\nDauer ca. 30 Minuten\nF
 ür Kinder ab 4 Jahren\nEintritt frei\n\nBild: ChatGPT
ATTACH;FMTTYPE=image/jpeg:https://www.nachbarschaftstreff-moosach.de/wp-co
 ntent/uploads/2026/03/ChatGPT-Image-3.-Maerz-2026-10_06_10.png
CATEGORIES:Veranstaltungen Untermenzinger Straße
LOCATION:Nachbarschaftstreff Untermenzinger Straße\, Untermenzinger Str. 7
 6\, Muenchen\, Deutschland
GEO:48.17931;11.495249999999942
X-APPLE-STRUCTURED-LOCATION;VALUE=URI;X-ADDRESS=Untermenzinger Str. 76\, Mu
 enchen\, Deutschland;X-APPLE-RADIUS=100;X-TITLE=Nachbarschaftstreff Unterm
 enzinger Straße:geo:48.17931,11.495249999999942
END:VEVENT
BEGIN:VTIMEZONE
TZID:Europe/Berlin
X-LIC-LOCATION:Europe/Berlin
BEGIN:STANDARD
DTSTART:20251026T020000
TZOFFSETFROM:+0200
TZOFFSETTO:+0100
TZNAME:CET
END:STANDARD
END:VTIMEZONE
END:VCALENDAR