BEGIN:VCALENDAR
VERSION:2.0
PRODID:-//wp-events-plugin.com//7.2.3.1//EN
TZID:Europe/Berlin
X-WR-TIMEZONE:Europe/Berlin
BEGIN:VEVENT
UID:7368@nachbarschaftstreff-moosach.de
DTSTART;TZID=Europe/Berlin:20260618T150000
DTEND;TZID=Europe/Berlin:20260618T170000
DTSTAMP:20260108T162711Z
URL:https://www.nachbarschaftstreff-moosach.de/veranstaltungen/beratung-fu
 er-eltern-2-2026-06-18/
SUMMARY:Elternberatung
DESCRIPTION:Eine offene Beratung von qualifizierten Kolleg*innen der Moosac
 her Kindertageszentren bei Fragen zur Entwicklung\, Erziehung und zum fami
 liären Zusammenleben.\nDie Elternberatung im Nachbarschaftstreff ist kost
 enlos.\nHier sind Sie richtig\, wenn Sie: \n\n	Fragen zur Entwicklung Ihr
 es Kindes haben\n	Unterstützung im Familienalltag suchen\n	Infos zum Kita
 -Finder und Vergabe von Betreuungsplätzen benötigen\n	Oder einfach nur e
 in offenes Ohr brauchen \n\nDie Beratung geben Omar Abdelkader vom KiTZ A
 m Hartmannshofer Bächl 46 (LHM)\, Irina Gdynia vom KiTZ Gubestraße (AWO)
  und Despoina Vagiota vom KiTZ Nanga-Parbat-Straße (LHM). \nAnmeldungen 
 bitte per Mail an elternberatung@ag-buhlstrasse.de    \nTermine sind fo
 lgende Donnerstage 15:00 – 17:00 Uhr:\n29.01.2026/ 26.02.2026/ 19.03.202
 6/ 16.04.2026/ 21.05.2026/ \n18.06.2026/ 16.07.2026 \n&nbsp\;
ATTACH;FMTTYPE=image/jpeg:https://www.nachbarschaftstreff-moosach.de/wp-co
 ntent/uploads/2024/07/Foto-Irina-Omar-Despoina-scaled.jpg
CATEGORIES:Kurse und Gruppen Untermenzinger Straße
LOCATION:Nachbarschaftstreff Untermenzinger Straße\, Untermenzinger Str. 7
 6\, Muenchen\, Deutschland
GEO:48.17931;11.495249999999942
X-APPLE-STRUCTURED-LOCATION;VALUE=URI;X-ADDRESS=Untermenzinger Str. 76\, Mu
 enchen\, Deutschland;X-APPLE-RADIUS=100;X-TITLE=Nachbarschaftstreff Unterm
 enzinger Straße:geo:48.17931,11.495249999999942
END:VEVENT
BEGIN:VTIMEZONE
TZID:Europe/Berlin
X-LIC-LOCATION:Europe/Berlin
BEGIN:DAYLIGHT
DTSTART:20260329T030000
TZOFFSETFROM:+0100
TZOFFSETTO:+0200
TZNAME:CEST
END:DAYLIGHT
END:VTIMEZONE
END:VCALENDAR